0.105715419838415
0.0384772661241377
0.0384772661241377
-0.105715419838415
597558.730266358
4685293.5918827
