0.15
0
0
-0.15
639597.2269
4726229.401
