0.15
0
0
-0.15
637747.5104
4725058.917
