0.15
0
0
-0.15
645479.3756
4725123.911
