0.15
0
0
-0.15
634054.2585
4723662.544
