0.15
0
0
-0.15
635470.4382
4723682.2
