0.15
0
0
-0.15
636178.5281
4723691.99
