0.15
0
0
-0.15
641138.9822
4723756.772
