0.15
0
0
-0.15
645385.7964
4723817.164
