0.15
0
0
-0.15
636292.0742
4722930.228
