0.15
0
0
-0.15
644905.8704
4722779.723
