0.15
0
0
-0.15
634814.3357
4721719.893
