0.15
0
0
-0.15
637921.6565
4721667.966
