0.15
0
0
-0.15
635134.2345
4720408.117
