0.15
0
0
-0.15
635882.7485
4720420.916
