0.15
0
0
-0.15
637384.1266
4720442.763
