0.15
0
0
-0.15
640386.5077
4720486.458
