0.15
0
0
-0.15
642644.3498
4720513.229
