0.15
0
0
-0.15
644146.7779
4720533.952
