0.15
0
0
-0.15
639690.5647
4719323.991
