0.15
0
0
-0.15
647098.9044
4718638.541
