0.15
0
0
-0.15
647344.1322
4717634.582
