0.15
0
0
-0.15
648002.9312
4717667.441
