0.15
0
0
-0.15
635770.0234
4715888.987
