0.15
0
0
-0.15
642293.2675
4716223.397
