0.15
0
0
-0.15
637811.444
4715065.331
