0.101959626041623
0.0475445544458287
0.0475445544458287
-0.101959626041623
585880.26498171
4689245.82802977
