0.101959626041623
0.0475445544458287
0.0475445544458287
-0.101959626041623
586163.169543592
4688615.58538593
