0.105
0
0
-0.105
621193.253
4701209.6325
