0.0864388623800653
0.0651422919720373
0.0651422919720373
-0.0864388623800653
629236.632311995
4721846.63252331
