0.0886756240788566
0.0692989824114965
0.0692989824114965
-0.0886756240788566
629405.165897087
4723298.0972629
