0.0798699763669679
0.0585738203895266
0.0585738203895266
-0.0798699763669679
630230.410324462
4722389.21862484
