0.0968417540933315
0.0695862040035727
0.0695862040035727
-0.0968417540933315
631209.422083811
4720610.4219633
