0.111040947458971
0.0794476845512524
0.0794476845512524
-0.111040947458971
633164.543486395
4717608.81137537
