0.0809857409066675
0.0690476521132425
0.0690476521132425
-0.0809857409066675
631123.48412648
4722424.61391028
