0.0865922258898075
0.0621972502858969
0.0621972502858969
-0.0865922258898075
632408.22540137
4720757.03574738
