0.0814016496519809
0.0796646536654454
0.0796646536654454
-0.0814016496519809
632906.641850648
4721021.24188422
