0.100433447556617
0.0705912929235174
0.0705912929235174
-0.100433447556617
636143.737288701
4718636.71831208
