0.0986677251825204
-0.0359121150491952
-0.0359121150491952
-0.0986677251825204
647109.582156404
4736838.66988867
