0.0986677251825204
-0.0359121150491952
-0.0359121150491952
-0.0986677251825204
650382.5435094
4735625.80774639
