0.0986677251825204
-0.0359121150491952
-0.0359121150491952
-0.0986677251825204
651318.447631841
4735277.67042703
