0.0986677251825204
-0.0359121150491952
-0.0359121150491952
-0.0986677251825204
652723.043411076
4734753.96561369
