0.0986677251825204
-0.0359121150491952
-0.0359121150491952
-0.0986677251825204
648982.338865502
4734968.19694799
