0.0986677251825204
-0.0359121150491952
-0.0359121150491952
-0.0986677251825204
652470.473388881
4733669.36232377
