0.0986677251825204
-0.0359121150491952
-0.0359121150491952
-0.0986677251825204
649851.510875003
4733183.24405327
