0.0986677251825204
-0.0359121150491952
-0.0359121150491952
-0.0986677251825204
652769.469820577
4732207.15971897
