0.0986677251825204
-0.0359121150491952
-0.0359121150491952
-0.0986677251825204
645994.840977573
4734015.62474798
