0.0986677251825204
-0.0359121150491952
-0.0359121150491952
-0.0986677251825204
646472.549365168
4733820.0188218
