0.0986677251825204
-0.0359121150491952
-0.0359121150491952
-0.0986677251825204
650303.47803392
4732236.10034029
