0.0986677251825204
-0.0359121150491952
-0.0359121150491952
-0.0986677251825204
648163.22757688
4731680.38144356
